BEGIN:VCALENDAR
VERSION:2.0
PRODID:-//Haus Concordia - ECPv6.15.20//NONSGML v1.0//EN
CALSCALE:GREGORIAN
METHOD:PUBLISH
X-ORIGINAL-URL:https://www.haus-concordia.com/web
X-WR-CALDESC:Wydarzenia dla Haus Concordia
REFRESH-INTERVAL;VALUE=DURATION:PT1H
X-Robots-Tag:noindex
X-PUBLISHED-TTL:PT1H
BEGIN:VTIMEZONE
TZID:Europe/Warsaw
BEGIN:DAYLIGHT
TZOFFSETFROM:+0100
TZOFFSETTO:+0200
TZNAME:CEST
DTSTART:20240331T010000
END:DAYLIGHT
BEGIN:STANDARD
TZOFFSETFROM:+0200
TZOFFSETTO:+0100
TZNAME:CET
DTSTART:20241027T010000
END:STANDARD
BEGIN:DAYLIGHT
TZOFFSETFROM:+0100
TZOFFSETTO:+0200
TZNAME:CEST
DTSTART:20250330T010000
END:DAYLIGHT
BEGIN:STANDARD
TZOFFSETFROM:+0200
TZOFFSETTO:+0100
TZNAME:CET
DTSTART:20251026T010000
END:STANDARD
BEGIN:DAYLIGHT
TZOFFSETFROM:+0100
TZOFFSETTO:+0200
TZNAME:CEST
DTSTART:20260329T010000
END:DAYLIGHT
BEGIN:STANDARD
TZOFFSETFROM:+0200
TZOFFSETTO:+0100
TZNAME:CET
DTSTART:20261025T010000
END:STANDARD
BEGIN:DAYLIGHT
TZOFFSETFROM:+0100
TZOFFSETTO:+0200
TZNAME:CEST
DTSTART:20270328T010000
END:DAYLIGHT
BEGIN:STANDARD
TZOFFSETFROM:+0200
TZOFFSETTO:+0100
TZNAME:CET
DTSTART:20271031T010000
END:STANDARD
END:VTIMEZONE
BEGIN:VEVENT
DTSTART;TZID=Europe/Warsaw:20251228T180000
DTEND;TZID=Europe/Warsaw:20260104T140000
DTSTAMP:20260422T174308
CREATED:20251031T080502Z
LAST-MODIFIED:20251031T080504Z
UID:5619-1766944800-1767535200@www.haus-concordia.com
SUMMARY:Nowy Rok z Jezusem
DESCRIPTION:Zapraszamy na niezapomniane rekolekcje zimowe\, podczas których dzieci i młodzież będą mogły rozpocząć Nowy Rok w wyjątkowy sposób – z radością\, wspólnotą i w obecności Jezusa!To czas pełen modlitwy\, zabawy i inspirujących spotkań\, które pomagają młodym uczestnikom odkrywać wiarę w praktyczny i radosny sposób. \n\n\n\nCzekają:❄️ zimowe atrakcje i wspólne zabawy na świeżym powietrzu🏊‍♂️ wyjścia na basen i aktywny wypoczynek🎶 modlitwa\, śpiew i spotkania formacyjne🎇 wspólne świętowanie Nowego Roku🤝 integracja i budowanie przyjaźni \n\n\n\n👧👦 Dla kogo:\n\n\n\nDzieci i młodzież w wieku 8–16 lat \n\n\n\n💰 Koszt:\n\n\n\n350 € \n\n\n\n📍 Miejsce:\n\n\n\nHaus ConcordiaZur Concordia 1\, D-57562 Herdorf – Dermbach \n\n\n\n📞 Zapisy:\n\n\n\nKontakt do organizatora – Stowarzyszenie 3D📩 Marta Stoltmann📱 Tel.: 0151 703 28714
URL:https://www.haus-concordia.com/web/kalendarz/nowy-rok-z-jezusem/
LOCATION:Haus Concordia\, Zur Concordia 1\, Herdorf\, 57562\, Niemcy
ATTACH;FMTTYPE=image/png:https://www.haus-concordia.com/web/wp-content/uploads/2025/10/Obszar-kompozycji-2-2.png
END:VEVENT
BEGIN:VEVENT
DTSTART;TZID=Europe/Warsaw:20260109T180000
DTEND;TZID=Europe/Warsaw:20260111T170000
DTSTAMP:20260422T174308
CREATED:20251006T130108Z
LAST-MODIFIED:20260106T093721Z
UID:5578-1767981600-1768150800@www.haus-concordia.com
SUMMARY:Szkoła Chrześcijańskiego Wzrostu III
DESCRIPTION:Dojrzałość\, rozeznawanie\, DekalogNowy rok rozpoczynamy od tematów\, które pomagają kształtować dojrzałe życie duchowe. Przechodzimy od emocji do decyzji – ucząc się rozeznawania i patrzenia na Dekalog jako drogowskaz wolności\, a nie ograniczeń. To weekend o odważnym wybieraniu dobra. \n\n\n\nzapisy
URL:https://www.haus-concordia.com/web/kalendarz/szkola-chrzescijanskiego-wzrostu-iii/
LOCATION:Haus Concordia\, Zur Concordia 1\, Herdorf\, 57562\, Niemcy
ATTACH;FMTTYPE=image/jpeg:https://www.haus-concordia.com/web/wp-content/uploads/2025/05/PLAKAT_szkola-chrzescijanskiego-wzrostu-scaled.jpg
END:VEVENT
BEGIN:VEVENT
DTSTART;TZID=Europe/Warsaw:20260111T110000
DTEND;TZID=Europe/Warsaw:20260111T170000
DTSTAMP:20260422T174308
CREATED:20251124T160829Z
LAST-MODIFIED:20251124T160911Z
UID:5637-1768129200-1768150800@www.haus-concordia.com
SUMMARY:Niedziela z Panem
DESCRIPTION:Zapraszamy na wyjątkowy dzień skupienia\, w którym możesz zatrzymać się\, odpocząć i doświadczyć obecności Boga w codzienności.„Niedziela z Panem” to czas modlitwy\, refleksji i wspólnoty – idealny moment\, by naładować duchowe baterie i zaczerpnąć pokoju serca. \n\n\n\n📖 Program:\n\n\n\n🕚 11:00 – Adoracja i możliwość spowiedzi🕛 12:00 – Msza Święta🍽 13:15 – Obiad💬 14:00 – Impuls duchowy☕️ 15:15 – Kawa i rozmowy🙏 15:45 – Adoracja✨ 17:00 – Błogosławieństwo i zakończenie spotkania \n\n\n\nW godzinach 14:00–17:00 zapewniamy opie­kę nad dziećmi\, aby rodzice mogli spokojnie uczestniczyć w rekolekcjach. \n\n\n\n📅 Zapisy:\n\n\n\nNa obiad i kawę prosimy zgłaszać się do piątku\, 14 listopada 2025📱 przez WhatsApp: +49 160 99897253 \n\n\n\n💛 Sugerowana ofiara za koszty: 25 € / osoba
URL:https://www.haus-concordia.com/web/kalendarz/niedziela-z-panem-2/
LOCATION:Haus Concordia\, Zur Concordia 1\, Herdorf\, 57562\, Niemcy
ATTACH;FMTTYPE=image/png:https://www.haus-concordia.com/web/wp-content/uploads/2025/11/popPlakat-niedziela-z-Panem-copy-scaled.png
ORGANIZER;CN="Haus Concordia":MAILTO:concordia@haus-concordia.com
END:VEVENT
BEGIN:VEVENT
DTSTART;TZID=Europe/Warsaw:20260116T193000
DTEND;TZID=Europe/Warsaw:20260118T134500
DTSTAMP:20260422T174308
CREATED:20251006T131441Z
LAST-MODIFIED:20251229T090418Z
UID:5591-1768591800-1768743900@www.haus-concordia.com
SUMMARY:116 Spotkanie Formacyjne Młodych "Emaus"
DESCRIPTION:Spotkania Formacyjne Młodych „Emaus” adresowane są do młodzieży\, która pragnie pogłębiać i umacniać swoją wiarę oraz tworzyć wspólnotę młodych chrześcijan. Główny cel jej działalności to formacja religijna młodego człowieka\, kształtowanie zdrowej i autentycznej pobożności\, umożliwienie przeżycia głębokiego doświadczenia religijnego\, a przede wszystkim pomoc w dojściu do dojrzałej wiary\, która polega na osobistym wyborze Chrystusa jako Pana i Mistrza oraz powierzeniu Jemu całego swojego życia.  \n\n\n\nSpotkania od momentu powstania w styczniu 2008 roku prowadzi ks. Bogdan Renusz SChr\, pomocą służą duszpasterze Polskich Misji Katolickich\, przede wszystkim Księża Chrystusowcy a także zaproszeni goście. Odbywają się one 7 razy w roku. Na program SFM „Emaus” składają się: Eucharystia\, Adoracja Najświętszego Sakramentu\, różne formy modlitwy\, rozważanie Słowa Bożego\, nabożeństwo pokutne ze spowiedzią indywidualną\, konferencje pogłębiające wiarę\, indywidualne rozmowy duszpasterskie\, spotkania w kręgu przyjaciół.  \n\n\n\nSpotkania rozpoczynają się zawsze w piątek o godz. 19:30 i kończą w niedzielę o godz. 13:45. \n\n\n\nBiblijnym symbolem duchowości Spotkań Formacyjnych Młodych\, jak wskazuje sama nazwa\,  jest droga do  „Emaus” opisana w Ewangelii według św. Łukasza (Łk 24\,13-35)
URL:https://www.haus-concordia.com/web/kalendarz/grupa-modlitewna-sfm-emaus/
LOCATION:Haus Concordia\, Zur Concordia 1\, Herdorf\, 57562\, Niemcy
CATEGORIES:SFM EMAUS
ATTACH;FMTTYPE=image/jpeg:https://www.haus-concordia.com/web/wp-content/uploads/2025/12/SFM01263-16.jpg
ORGANIZER;CN="SFM-Emaus":MAILTO:brenusz@gmx.de
END:VEVENT
BEGIN:VEVENT
DTSTART;TZID=Europe/Warsaw:20260130T180000
DTEND;TZID=Europe/Warsaw:20260201T150000
DTSTAMP:20260422T174308
CREATED:20251006T131838Z
LAST-MODIFIED:20251124T155558Z
UID:5593-1769796000-1769958000@www.haus-concordia.com
SUMMARY:Rekolekcje dla Nadzwyczajnych Szafarzy Komunii Świętej
DESCRIPTION:Zapraszamy na wyjątkowe dni skupienia przeznaczone dla Nadzwyczajnych Szafarzy Komunii Świętej. To czas zatrzymania się\, pogłębienia duchowości oraz odnowienia w sobie sensu posługi\, którą każdy z Was niesie do parafii\, wspólnot i osób chorych. \n\n\n\nW atmosferze ciszy\, modlitwy i serdecznej wspólnoty odkryjemy na nowo głębię naszego powołania. Będzie to przestrzeń na refleksję\, rozmowę z duszpasterzem i umocnienie w codziennej służbie. \n\n\n\nDuszpasterz spotkania:ks. dr Teodor Puszcz SChr \n\n\n\n\n\n\n\nDlaczego warto wziąć udział?\n\n\n\n\nczas wyciszenia i modlitwy\n\n\n\nkonferencje duchowe dedykowane szafarzom\n\n\n\nmożliwość rozmowy indywidualnej\n\n\n\nwspólna Eucharystia i adoracja\n\n\n\nbudowanie braterskiej wspólnoty\n\n\n\n\nChcemy\, by każdy uczestnik wyjechał umocniony\, spokojniejszy i z nową energią do pełnienia swojej misji.
URL:https://www.haus-concordia.com/web/kalendarz/rekolekcje-dla-nadzwyczajnych-szafarzy-komunii-swietej/
LOCATION:Haus Concordia\, Zur Concordia 1\, Herdorf\, 57562\, Niemcy
ATTACH;FMTTYPE=image/png:https://www.haus-concordia.com/web/wp-content/uploads/2025/10/Zrzut-ekranu-2025-11-24-o-16.52.33.png
END:VEVENT
END:VCALENDAR