BEGIN:VCALENDAR
VERSION:2.0
PRODID:-//Haus Concordia - ECPv6.15.20//NONSGML v1.0//EN
CALSCALE:GREGORIAN
METHOD:PUBLISH
X-WR-CALNAME:Haus Concordia
X-ORIGINAL-URL:https://www.haus-concordia.com/web
X-WR-CALDESC:Wydarzenia dla Haus Concordia
REFRESH-INTERVAL;VALUE=DURATION:PT1H
X-Robots-Tag:noindex
X-PUBLISHED-TTL:PT1H
BEGIN:VTIMEZONE
TZID:Europe/Warsaw
BEGIN:DAYLIGHT
TZOFFSETFROM:+0100
TZOFFSETTO:+0200
TZNAME:CEST
DTSTART:20240331T010000
END:DAYLIGHT
BEGIN:STANDARD
TZOFFSETFROM:+0200
TZOFFSETTO:+0100
TZNAME:CET
DTSTART:20241027T010000
END:STANDARD
BEGIN:DAYLIGHT
TZOFFSETFROM:+0100
TZOFFSETTO:+0200
TZNAME:CEST
DTSTART:20250330T010000
END:DAYLIGHT
BEGIN:STANDARD
TZOFFSETFROM:+0200
TZOFFSETTO:+0100
TZNAME:CET
DTSTART:20251026T010000
END:STANDARD
BEGIN:DAYLIGHT
TZOFFSETFROM:+0100
TZOFFSETTO:+0200
TZNAME:CEST
DTSTART:20260329T010000
END:DAYLIGHT
BEGIN:STANDARD
TZOFFSETFROM:+0200
TZOFFSETTO:+0100
TZNAME:CET
DTSTART:20261025T010000
END:STANDARD
END:VTIMEZONE
BEGIN:VEVENT
DTSTART;TZID=Europe/Warsaw:20251011T160000
DTEND;TZID=Europe/Warsaw:20251018T140000
DTSTAMP:20260424T101512
CREATED:20250825T093726Z
LAST-MODIFIED:20251003T111248Z
UID:5535-1760198400-1760796000@www.haus-concordia.com
SUMMARY:Ferie z Jezusem
DESCRIPTION:Dla dzieci i młodzieży w wieku 8–16 lat \n\n\n\nDlaczego warto?\n\n\n\n„Ferie z Jezusem” to czas\, w którym młodzi mogą: \n\n\n\n\ndoświadczyć radości bycia razem\,\n\n\n\nzawiązać nowe przyjaźnie\,\n\n\n\nspotkać Boga w modlitwie\, Eucharystii i codzienności\,\n\n\n\nodkrywać swoje talenty i pasje\,\n\n\n\npo prostu cieszyć się życiem.\n\n\n\n\n\n\n\n\nCo nas czeka?\n\n\n\n\nczas na świeżym powietrzu\, gry i integracje\n\n\n\nmodlitwa\, śpiew\, Eucharystia i rozmowy o wierze\n\n\n\n\n\n\n\n\nOrganizacja\n\n\n\nTermin: 11–18.10.2025Koszt: 330 €Wiek uczestników: 8–16 latMiejsce: Haus Concordia\, Herdorf – Dermbach \n\n\n\n\n\n\n\nZapisy\n\n\n\nOsoba kontaktowa: Marta Stoltmann📞 Tel.: 0151 70328714 \n\n\n\n\n\n\n\nZapraszamy!\n\n\n\nFerie z Jezusem to nie tylko tydzień jesiennych atrakcji. To przede wszystkim czas\, który pomaga młodym wzrastać – w przyjaźni\, w wierze i w codziennym życiu. \n\n\n\nNiech to będzie tydzień pełen dobra\, radości i doświadczenia Bożej obecności.
URL:https://www.haus-concordia.com/web/kalendarz/ferie-z-jezusem/
LOCATION:Haus Concordia\, Zur Concordia 1\, Herdorf\, 57562\, Niemcy
ATTACH;FMTTYPE=image/png:https://www.haus-concordia.com/web/wp-content/uploads/2025/08/Ferie-z-Jezusem-2025-scaled.png
END:VEVENT
BEGIN:VEVENT
DTSTART;TZID=Europe/Warsaw:20251024T180000
DTEND;TZID=Europe/Warsaw:20251026T140000
DTSTAMP:20260424T101512
CREATED:20250915T095125Z
LAST-MODIFIED:20250915T095304Z
UID:5561-1761328800-1761487200@www.haus-concordia.com
SUMMARY:„Mózg pod napięciem – jak sobie radzić ze stresem i budować odporność psychiczną”.
DESCRIPTION:Codzienność potrafi przytłoczyć. Stres\, napięcie i presja sprawiają\, że trudno zachować spokój i jasne myślenie. Ale można się tego nauczyć. 24–26 października zapraszamy do Haus Concordia na wyjątkowe warsztaty prowadzone przez Krzysztofa Kusika: \n\n\n\n„Mózg pod napięciem – jak sobie radzić ze stresem i budować odporność psychiczną”. \n\n\n\nDowiesz się: \n\n\n\n\njak działa twój mózg w sytuacjach stresowych\,\n\n\n\n\n\njak zmniejszyć napięcie i odzyskać kontrolę\,\n\n\n\n\n\njak budować odporność psychiczną\, by działać skutecznie i spokojnie.\n\n\n\n\nHaus Concordia\, Herdorf – Dermbach \n\n\n\nKoszt warsztatów: 150 € \n\n\n\nKoszt noclegu i wyżywienia: 130 € (pokój wieloosobowy) / 150 € (pokój dwuosobowy) \n\n\n\nRejestracja: Zapisy na warsztaty dla mężczyzn \n\n\n\nTo będzie czas dla Ciebie – aby odetchnąć\, uporządkować emocje i wyjść silniejszym.
URL:https://www.haus-concordia.com/web/kalendarz/mozg-pod-napieciem-jak-sobie-radzic-ze-stresem-i-budowac-odpornosc-psychiczna/
LOCATION:Haus Concordia\, Zur Concordia 1\, Herdorf\, 57562\, Niemcy
ATTACH;FMTTYPE=image/jpeg:https://www.haus-concordia.com/web/wp-content/uploads/2025/09/WARSZTATY-scaled.jpg
ORGANIZER;CN="Haus Concordia":MAILTO:concordia@haus-concordia.com
END:VEVENT
BEGIN:VEVENT
DTSTART;TZID=Europe/Warsaw:20251024T180000
DTEND;TZID=Europe/Warsaw:20251026T153000
DTSTAMP:20260424T101512
CREATED:20250905T132655Z
LAST-MODIFIED:20250905T132656Z
UID:5554-1761328800-1761492600@www.haus-concordia.com
SUMMARY:Rekolekcje dla kobiet: KOBIETY NADZIEI
DESCRIPTION:Warsztaty o odnajdywaniu i dawaniu nadziei \n\n\n\nTo wyjątkowy czas\, który pomaga pogłębić relację z Bogiem i samą sobą\, aby z nową energią wracać do codzienności. \n\n\n\nW nas i wokół nas są czasem długie i ciemne doliny. Jak nie stracić wtedy cierpliwości do siebie\, do życia\, do Boga? Jak odnajdywać w sobie i w Nim źródło Nadziei\, jak dawać ją dalej? \n\n\n\nProwadząca: Beata Kusik \n\n\n\nZAPISY: https://docs.google.com/forms/d/e/1FAIpQLSe4g7wnhKvzixxu1CpKTr0Q6CN2ov8UWh_In7es1YYsnXxhHw/viewform?usp=sharing&ouid=101390304078278490888
URL:https://www.haus-concordia.com/web/kalendarz/rekolekcje-dla-kobiet-kobiety-nadziei/
LOCATION:Haus Concordia\, Zur Concordia 1\, Herdorf\, 57562\, Niemcy
ATTACH;FMTTYPE=image/jpeg:https://www.haus-concordia.com/web/wp-content/uploads/2025/09/WhatsApp-Image-2025-08-29-at-11.43.32.jpeg
ORGANIZER;CN="Haus Concordia":MAILTO:concordia@haus-concordia.com
END:VEVENT
BEGIN:VEVENT
DTSTART;TZID=Europe/Warsaw:20251031T170000
DTEND;TZID=Europe/Warsaw:20251102T180000
DTSTAMP:20260424T101512
CREATED:20241212T125955Z
LAST-MODIFIED:20241212T125956Z
UID:4967-1761930000-1762106400@www.haus-concordia.com
SUMMARY:114 Spotkanie Formacyjne Młodych „Emaus”
DESCRIPTION:Spotkania Formacyjne Młodych „Emaus” to przedłużenie Polonijnego Spotkania Młodych\, które co roku odbywa się w Haus Concordia.  Adresowane są one do młodzieży\, która pragnie pogłębiać i umacniać swoją wiarę oraz tworzyć wspólnotę młodych chrześcijan. Prowadzącymi spotkania jest odpowiedzialny za Polonijne Spotkanie Młodych i za SFM „Emaus” ks. Bogdan Renusz SChr\, księża z Polskich Misji Katolickich\, a także zaproszeni goście. Na program SFM „Emaus” składają się: Eucharystia\, Adoracja Najświętszego Sakramentu i inne formy modlitwy\, spotkanie ze Słowem Bożym\, nabożeństwo pokutne ze spowiedzią indywidualną\, konferencje pogłębiające wiarę\, spotkania formacyjne i indywidualne rozmowy duszpasterskie\, śpiew\, spotkania w kręgu przyjaciół. \n\n\n\nZapisy:ks. Bogdan Renusz SChrbrenusz@gmx.de
URL:https://www.haus-concordia.com/web/kalendarz/114-spotkanie-formacyjne-mlodych-emaus/
LOCATION:Haus Concordia\, Zur Concordia 1\, Herdorf\, 57562\, Niemcy
CATEGORIES:SFM EMAUS
ATTACH;FMTTYPE=image/jpeg:https://www.haus-concordia.com/web/wp-content/uploads/2024/12/SFM01263-14-1-1.jpg
ORGANIZER;CN="Spotkania Formacyjne M%C5%82odych %E2%80%9EEmaus%E2%80%9D":MAILTO:brenusz@gmx.de
END:VEVENT
END:VCALENDAR