BEGIN:VCALENDAR
VERSION:2.0
PRODID:-//Haus Concordia - ECPv6.15.20//NONSGML v1.0//EN
CALSCALE:GREGORIAN
METHOD:PUBLISH
X-ORIGINAL-URL:https://www.haus-concordia.com/web
X-WR-CALDESC:Wydarzenia dla Haus Concordia
REFRESH-INTERVAL;VALUE=DURATION:PT1H
X-Robots-Tag:noindex
X-PUBLISHED-TTL:PT1H
BEGIN:VTIMEZONE
TZID:Europe/Warsaw
BEGIN:DAYLIGHT
TZOFFSETFROM:+0100
TZOFFSETTO:+0200
TZNAME:CEST
DTSTART:20250330T010000
END:DAYLIGHT
BEGIN:STANDARD
TZOFFSETFROM:+0200
TZOFFSETTO:+0100
TZNAME:CET
DTSTART:20251026T010000
END:STANDARD
BEGIN:DAYLIGHT
TZOFFSETFROM:+0100
TZOFFSETTO:+0200
TZNAME:CEST
DTSTART:20260329T010000
END:DAYLIGHT
BEGIN:STANDARD
TZOFFSETFROM:+0200
TZOFFSETTO:+0100
TZNAME:CET
DTSTART:20261025T010000
END:STANDARD
BEGIN:DAYLIGHT
TZOFFSETFROM:+0100
TZOFFSETTO:+0200
TZNAME:CEST
DTSTART:20270328T010000
END:DAYLIGHT
BEGIN:STANDARD
TZOFFSETFROM:+0200
TZOFFSETTO:+0100
TZNAME:CET
DTSTART:20271031T010000
END:STANDARD
END:VTIMEZONE
BEGIN:VEVENT
DTSTART;TZID=Europe/Warsaw:20260619T180000
DTEND;TZID=Europe/Warsaw:20260621T190000
DTSTAMP:20260422T121919
CREATED:20251006T130906Z
LAST-MODIFIED:20251006T130907Z
UID:5586-1781892000-1782068400@www.haus-concordia.com
SUMMARY:Szkoła Chrześcijańskiego Wzrostu VI
DESCRIPTION:Kościół jako wspólnotaOstatni weekend to święto wspólnoty. Podsumowujemy rok drogi i uczymy się\, jak żyć Ewangelią w codzienności. Odkrywamy Kościół nie jako instytucję\, lecz jako rodzinę – ludzi\, których łączy wiara\, nadzieja i miłość. To piękny finał wspólnej drogi w Concordii.
URL:https://www.haus-concordia.com/web/kalendarz/szkola-chrzescijanskiego-wzrostu-vi/
LOCATION:Haus Concordia\, Zur Concordia 1\, Herdorf\, 57562\, Niemcy
ATTACH;FMTTYPE=image/jpeg:https://www.haus-concordia.com/web/wp-content/uploads/2025/05/PLAKAT_szkola-chrzescijanskiego-wzrostu-scaled.jpg
END:VEVENT
BEGIN:VEVENT
DTSTART;TZID=Europe/Warsaw:20260621T110000
DTEND;TZID=Europe/Warsaw:20260621T170000
DTSTAMP:20260422T121919
CREATED:20251124T161233Z
LAST-MODIFIED:20251124T161233Z
UID:5644-1782039600-1782061200@www.haus-concordia.com
SUMMARY:Niedziela z Panem
DESCRIPTION:Zapraszamy na wyjątkowy dzień skupienia\, w którym możesz zatrzymać się\, odpocząć i doświadczyć obecności Boga w codzienności.„Niedziela z Panem” to czas modlitwy\, refleksji i wspólnoty – idealny moment\, by naładować duchowe baterie i zaczerpnąć pokoju serca. \n\n\n\n📖 Program:\n\n\n\n🕚 11:00 – Adoracja i możliwość spowiedzi🕛 12:00 – Msza Święta🍽 13:15 – Obiad💬 14:00 – Impuls duchowy☕️ 15:15 – Kawa i rozmowy🙏 15:45 – Adoracja✨ 17:00 – Błogosławieństwo i zakończenie spotkania \n\n\n\nW godzinach 14:00–17:00 zapewniamy opie­kę nad dziećmi\, aby rodzice mogli spokojnie uczestniczyć w rekolekcjach. \n\n\n\n📅 Zapisy:\n\n\n\nNa obiad i kawę prosimy zgłaszać się do piątku\, 14 listopada 2025📱 przez WhatsApp: +49 160 99897253 \n\n\n\n💛 Sugerowana ofiara za koszty: 25 € / osoba
URL:https://www.haus-concordia.com/web/kalendarz/niedziela-z-panem-5/
LOCATION:Haus Concordia\, Zur Concordia 1\, Herdorf\, 57562\, Niemcy
ATTACH;FMTTYPE=image/png:https://www.haus-concordia.com/web/wp-content/uploads/2025/11/popPlakat-niedziela-z-Panem-copy-scaled.png
ORGANIZER;CN="Haus Concordia":MAILTO:concordia@haus-concordia.com
END:VEVENT
BEGIN:VEVENT
DTSTART;TZID=Europe/Warsaw:20260627T100000
DTEND;TZID=Europe/Warsaw:20260627T180000
DTSTAMP:20260422T121919
CREATED:20251229T091227Z
LAST-MODIFIED:20260206T164056Z
UID:5710-1782554400-1782583200@www.haus-concordia.com
SUMMARY:22 POLONIJNE SPOTKANIE MŁODYCH
DESCRIPTION:To wydarzenie\, które co roku gromadzi młodych Polaków z całych Niemiec (i nie tylko!)\, by razem modlić się\, inspirować\, szukać Boga i odkrywać głębię wspólnoty. \n\n\n\nSpotkanie ma charakter rekolekcyjno-festiwalowy – jest przestrzeń na Eucharystię\, adorację\, konferencje\, a także na koncerty\, integrację i rozmowy.W tym roku PSM odbywa się już po raz 22. – chcemy przeżyć to święto wiary jeszcze pełniej! \n\n\n\nWIĘCEJ\n\n\n\n \n\n\n\nPLAKAT NA POLONIJNE SPOTKANIE MŁODYCH W HAUS CONCORDIA W 2026
URL:https://www.haus-concordia.com/web/kalendarz/22-polonijne-spotkanie-mlodych/
LOCATION:Haus Concordia\, Zur Concordia 1\, Herdorf\, 57562\, Niemcy
ATTACH;FMTTYPE=image/png:https://www.haus-concordia.com/web/wp-content/uploads/2026/02/PSM_v2b-scaled.png
END:VEVENT
BEGIN:VEVENT
DTSTART;TZID=Europe/Warsaw:20260718T180000
DTEND;TZID=Europe/Warsaw:20260725T153000
DTSTAMP:20260422T121919
CREATED:20260123T164523Z
LAST-MODIFIED:20260123T164658Z
UID:5744-1784397600-1784993400@www.haus-concordia.com
SUMMARY:Wakacje z Jezusem 2026
DESCRIPTION:Są takie wakacje\, po których wraca się nie tylko z pamiątkami\, ale też z sercem pełnym dobra. „Wakacje z Jezusem” w Haus Concordia to czas wspólnoty\, radości\, zabawy i wiary przeżywanej naturalnie – bez presji\, za to blisko ludzi i Boga. \n\n\n\nTo turnusy\, które łączą aktywny wypoczynek z wartościowym programem: modlitwą\, rozmową\, integracją i codziennymi atrakcjami w bezpiecznym\, życzliwym miejscu.
URL:https://www.haus-concordia.com/web/kalendarz/wakacje-z-jezusem-2026/
LOCATION:Haus Concordia\, Zur Concordia 1\, Herdorf\, 57562\, Niemcy
ATTACH;FMTTYPE=image/png:https://www.haus-concordia.com/web/wp-content/uploads/2026/01/WAKACJE-Z-JEZUSEM_2026-scaled.png
END:VEVENT
BEGIN:VEVENT
DTSTART;TZID=Europe/Warsaw:20260918T193000
DTEND;TZID=Europe/Warsaw:20260920T134500
DTSTAMP:20260422T121919
CREATED:20251229T090700Z
LAST-MODIFIED:20251229T090701Z
UID:5704-1789759800-1789911900@www.haus-concordia.com
SUMMARY:120 Spotkanie Formacyjne Młodych "Emaus"
DESCRIPTION:Spotkania Formacyjne Młodych „Emaus” adresowane są do młodzieży\, która pragnie pogłębiać i umacniać swoją wiarę oraz tworzyć wspólnotę młodych chrześcijan. Główny cel jej działalności to formacja religijna młodego człowieka\, kształtowanie zdrowej i autentycznej pobożności\, umożliwienie przeżycia głębokiego doświadczenia religijnego\, a przede wszystkim pomoc w dojściu do dojrzałej wiary\, która polega na osobistym wyborze Chrystusa jako Pana i Mistrza oraz powierzeniu Jemu całego swojego życia.  \n\n\n\nSpotkania od momentu powstania w styczniu 2008 roku prowadzi ks. Bogdan Renusz SChr\, pomocą służą duszpasterze Polskich Misji Katolickich\, przede wszystkim Księża Chrystusowcy a także zaproszeni goście. Odbywają się one 7 razy w roku. Na program SFM „Emaus” składają się: Eucharystia\, Adoracja Najświętszego Sakramentu\, różne formy modlitwy\, rozważanie Słowa Bożego\, nabożeństwo pokutne ze spowiedzią indywidualną\, konferencje pogłębiające wiarę\, indywidualne rozmowy duszpasterskie\, spotkania w kręgu przyjaciół.  \n\n\n\nSpotkania rozpoczynają się zawsze w piątek o godz. 19:30 i kończą w niedzielę o godz. 13:45. \n\n\n\nBiblijnym symbolem duchowości Spotkań Formacyjnych Młodych\, jak wskazuje sama nazwa\,  jest droga do  „Emaus” opisana w Ewangelii według św. Łukasza (Łk 24\,13-35)
URL:https://www.haus-concordia.com/web/kalendarz/120-spotkanie-formacyjne-mlodych-emaus/
LOCATION:Haus Concordia\, Zur Concordia 1\, Herdorf\, 57562\, Niemcy
CATEGORIES:SFM EMAUS
ATTACH;FMTTYPE=image/jpeg:https://www.haus-concordia.com/web/wp-content/uploads/2025/12/SFM01263-16.jpg
ORGANIZER;CN="SFM-Emaus":MAILTO:brenusz@gmx.de
END:VEVENT
BEGIN:VEVENT
DTSTART;TZID=Europe/Warsaw:20260925T180000
DTEND;TZID=Europe/Warsaw:20260927T190000
DTSTAMP:20260422T121919
CREATED:20251229T091945Z
LAST-MODIFIED:20251229T091946Z
UID:5717-1790359200-1790535600@www.haus-concordia.com
SUMMARY:Grupa Modlitewna "Orły"
DESCRIPTION:Grupa modlitewna ORŁY zaprasza na spotkania w 2025 roku! To wyjątkowy czas wspólnej modlitwy\, duchowego wzrostu oraz budowania relacji z Bogiem i innymi uczestnikami. Każde spotkanie to okazja\, aby doświadczyć wspólnoty i pogłębić swoją wiarę. \n\n\n\nSpotkania odbywają się w atmosferze modlitwy\, refleksji i radości. Zapraszamy zarówno stałych uczestników\, jak i tych\, którzy chcą dołączyć po raz pierwszy. \n\n\n\nWięcej szczegółów można uzyskać kontaktując się z organizatorami.
URL:https://www.haus-concordia.com/web/kalendarz/grupa-modlitewna-orly-3/
LOCATION:Haus Concordia\, Zur Concordia 1\, Herdorf\, 57562\, Niemcy
CATEGORIES:Grupa Modlitewna Orły
ATTACH;FMTTYPE=image/avif:https://www.haus-concordia.com/web/wp-content/uploads/2025/10/2026.avif
ORGANIZER;CN="Grupa Modlitewna Or%C5%82y":MAILTO:grupamodlitewnaorly@gmail.com
END:VEVENT
BEGIN:VEVENT
DTSTART;TZID=Europe/Warsaw:20261030T180000
DTEND;TZID=Europe/Warsaw:20261101T190000
DTSTAMP:20260422T121919
CREATED:20251229T092049Z
LAST-MODIFIED:20251229T092050Z
UID:5719-1793383200-1793559600@www.haus-concordia.com
SUMMARY:Grupa Modlitewna "Orły"
DESCRIPTION:Grupa modlitewna ORŁY zaprasza na spotkania w 2025 roku! To wyjątkowy czas wspólnej modlitwy\, duchowego wzrostu oraz budowania relacji z Bogiem i innymi uczestnikami. Każde spotkanie to okazja\, aby doświadczyć wspólnoty i pogłębić swoją wiarę. \n\n\n\nSpotkania odbywają się w atmosferze modlitwy\, refleksji i radości. Zapraszamy zarówno stałych uczestników\, jak i tych\, którzy chcą dołączyć po raz pierwszy. \n\n\n\nWięcej szczegółów można uzyskać kontaktując się z organizatorami.
URL:https://www.haus-concordia.com/web/kalendarz/grupa-modlitewna-orly-4/
LOCATION:Haus Concordia\, Zur Concordia 1\, Herdorf\, 57562\, Niemcy
CATEGORIES:Grupa Modlitewna Orły
ATTACH;FMTTYPE=image/avif:https://www.haus-concordia.com/web/wp-content/uploads/2025/10/2026.avif
ORGANIZER;CN="Grupa Modlitewna Or%C5%82y":MAILTO:grupamodlitewnaorly@gmail.com
END:VEVENT
BEGIN:VEVENT
DTSTART;TZID=Europe/Warsaw:20261106T193000
DTEND;TZID=Europe/Warsaw:20261108T134500
DTSTAMP:20260422T121919
CREATED:20251229T090853Z
LAST-MODIFIED:20251229T090854Z
UID:5706-1793993400-1794145500@www.haus-concordia.com
SUMMARY:121 Spotkanie Formacyjne Młodych "Emaus"
DESCRIPTION:Spotkania Formacyjne Młodych „Emaus” adresowane są do młodzieży\, która pragnie pogłębiać i umacniać swoją wiarę oraz tworzyć wspólnotę młodych chrześcijan. Główny cel jej działalności to formacja religijna młodego człowieka\, kształtowanie zdrowej i autentycznej pobożności\, umożliwienie przeżycia głębokiego doświadczenia religijnego\, a przede wszystkim pomoc w dojściu do dojrzałej wiary\, która polega na osobistym wyborze Chrystusa jako Pana i Mistrza oraz powierzeniu Jemu całego swojego życia.  \n\n\n\nSpotkania od momentu powstania w styczniu 2008 roku prowadzi ks. Bogdan Renusz SChr\, pomocą służą duszpasterze Polskich Misji Katolickich\, przede wszystkim Księża Chrystusowcy a także zaproszeni goście. Odbywają się one 7 razy w roku. Na program SFM „Emaus” składają się: Eucharystia\, Adoracja Najświętszego Sakramentu\, różne formy modlitwy\, rozważanie Słowa Bożego\, nabożeństwo pokutne ze spowiedzią indywidualną\, konferencje pogłębiające wiarę\, indywidualne rozmowy duszpasterskie\, spotkania w kręgu przyjaciół.  \n\n\n\nSpotkania rozpoczynają się zawsze w piątek o godz. 19:30 i kończą w niedzielę o godz. 13:45. \n\n\n\nBiblijnym symbolem duchowości Spotkań Formacyjnych Młodych\, jak wskazuje sama nazwa\,  jest droga do  „Emaus” opisana w Ewangelii według św. Łukasza (Łk 24\,13-35)
URL:https://www.haus-concordia.com/web/kalendarz/121-spotkanie-formacyjne-mlodych-emaus/
LOCATION:Haus Concordia\, Zur Concordia 1\, Herdorf\, 57562\, Niemcy
CATEGORIES:SFM EMAUS
ATTACH;FMTTYPE=image/jpeg:https://www.haus-concordia.com/web/wp-content/uploads/2025/12/SFM01263-16.jpg
ORGANIZER;CN="SFM-Emaus":MAILTO:brenusz@gmx.de
END:VEVENT
BEGIN:VEVENT
DTSTART;TZID=Europe/Warsaw:20261204T180000
DTEND;TZID=Europe/Warsaw:20261206T190000
DTSTAMP:20260422T121919
CREATED:20251229T092151Z
LAST-MODIFIED:20251229T092152Z
UID:5721-1796407200-1796583600@www.haus-concordia.com
SUMMARY:Grupa Modlitewna "Orły" - spotkanie niemieckojęzyczne
DESCRIPTION:Grupa modlitewna ORŁY zaprasza na spotkania w 2025 roku! To wyjątkowy czas wspólnej modlitwy\, duchowego wzrostu oraz budowania relacji z Bogiem i innymi uczestnikami. Każde spotkanie to okazja\, aby doświadczyć wspólnoty i pogłębić swoją wiarę. \n\n\n\nSpotkania odbywają się w atmosferze modlitwy\, refleksji i radości. Zapraszamy zarówno stałych uczestników\, jak i tych\, którzy chcą dołączyć po raz pierwszy. \n\n\n\nWięcej szczegółów można uzyskać kontaktując się z organizatorami.
URL:https://www.haus-concordia.com/web/kalendarz/grupa-modlitewna-orly-spotkanie-niemieckojezyczne/
LOCATION:Haus Concordia\, Zur Concordia 1\, Herdorf\, 57562\, Niemcy
CATEGORIES:Grupa Modlitewna Orły
ATTACH;FMTTYPE=image/avif:https://www.haus-concordia.com/web/wp-content/uploads/2025/10/2026.avif
ORGANIZER;CN="Grupa Modlitewna Or%C5%82y":MAILTO:grupamodlitewnaorly@gmail.com
END:VEVENT
BEGIN:VEVENT
DTSTART;TZID=Europe/Warsaw:20261211T193000
DTEND;TZID=Europe/Warsaw:20261213T134500
DTSTAMP:20260422T121919
CREATED:20251229T090940Z
LAST-MODIFIED:20251229T090941Z
UID:5708-1797017400-1797169500@www.haus-concordia.com
SUMMARY:122 Spotkanie Formacyjne Młodych "Emaus"
DESCRIPTION:Spotkania Formacyjne Młodych „Emaus” adresowane są do młodzieży\, która pragnie pogłębiać i umacniać swoją wiarę oraz tworzyć wspólnotę młodych chrześcijan. Główny cel jej działalności to formacja religijna młodego człowieka\, kształtowanie zdrowej i autentycznej pobożności\, umożliwienie przeżycia głębokiego doświadczenia religijnego\, a przede wszystkim pomoc w dojściu do dojrzałej wiary\, która polega na osobistym wyborze Chrystusa jako Pana i Mistrza oraz powierzeniu Jemu całego swojego życia.  \n\n\n\nSpotkania od momentu powstania w styczniu 2008 roku prowadzi ks. Bogdan Renusz SChr\, pomocą służą duszpasterze Polskich Misji Katolickich\, przede wszystkim Księża Chrystusowcy a także zaproszeni goście. Odbywają się one 7 razy w roku. Na program SFM „Emaus” składają się: Eucharystia\, Adoracja Najświętszego Sakramentu\, różne formy modlitwy\, rozważanie Słowa Bożego\, nabożeństwo pokutne ze spowiedzią indywidualną\, konferencje pogłębiające wiarę\, indywidualne rozmowy duszpasterskie\, spotkania w kręgu przyjaciół.  \n\n\n\nSpotkania rozpoczynają się zawsze w piątek o godz. 19:30 i kończą w niedzielę o godz. 13:45. \n\n\n\nBiblijnym symbolem duchowości Spotkań Formacyjnych Młodych\, jak wskazuje sama nazwa\,  jest droga do  „Emaus” opisana w Ewangelii według św. Łukasza (Łk 24\,13-35)
URL:https://www.haus-concordia.com/web/kalendarz/122-spotkanie-formacyjne-mlodych-emaus/
LOCATION:Haus Concordia\, Zur Concordia 1\, Herdorf\, 57562\, Niemcy
CATEGORIES:SFM EMAUS
ATTACH;FMTTYPE=image/jpeg:https://www.haus-concordia.com/web/wp-content/uploads/2025/12/SFM01263-16.jpg
ORGANIZER;CN="SFM-Emaus":MAILTO:brenusz@gmx.de
END:VEVENT
END:VCALENDAR