BEGIN:VCALENDAR
VERSION:2.0
PRODID:-//Haus Concordia - ECPv6.15.20//NONSGML v1.0//EN
CALSCALE:GREGORIAN
METHOD:PUBLISH
X-WR-CALNAME:Haus Concordia
X-ORIGINAL-URL:https://www.haus-concordia.com/web
X-WR-CALDESC:Wydarzenia dla Haus Concordia
REFRESH-INTERVAL;VALUE=DURATION:PT1H
X-Robots-Tag:noindex
X-PUBLISHED-TTL:PT1H
BEGIN:VTIMEZONE
TZID:Europe/Warsaw
BEGIN:DAYLIGHT
TZOFFSETFROM:+0100
TZOFFSETTO:+0200
TZNAME:CEST
DTSTART:20250330T010000
END:DAYLIGHT
BEGIN:STANDARD
TZOFFSETFROM:+0200
TZOFFSETTO:+0100
TZNAME:CET
DTSTART:20251026T010000
END:STANDARD
BEGIN:DAYLIGHT
TZOFFSETFROM:+0100
TZOFFSETTO:+0200
TZNAME:CEST
DTSTART:20260329T010000
END:DAYLIGHT
BEGIN:STANDARD
TZOFFSETFROM:+0200
TZOFFSETTO:+0100
TZNAME:CET
DTSTART:20261025T010000
END:STANDARD
BEGIN:DAYLIGHT
TZOFFSETFROM:+0100
TZOFFSETTO:+0200
TZNAME:CEST
DTSTART:20270328T010000
END:DAYLIGHT
BEGIN:STANDARD
TZOFFSETFROM:+0200
TZOFFSETTO:+0100
TZNAME:CET
DTSTART:20271031T010000
END:STANDARD
END:VTIMEZONE
BEGIN:VEVENT
DTSTART;TZID=Europe/Warsaw:20260718T180000
DTEND;TZID=Europe/Warsaw:20260725T153000
DTSTAMP:20260422T175055
CREATED:20260123T164523Z
LAST-MODIFIED:20260123T164658Z
UID:5744-1784397600-1784993400@www.haus-concordia.com
SUMMARY:Wakacje z Jezusem 2026
DESCRIPTION:Są takie wakacje\, po których wraca się nie tylko z pamiątkami\, ale też z sercem pełnym dobra. „Wakacje z Jezusem” w Haus Concordia to czas wspólnoty\, radości\, zabawy i wiary przeżywanej naturalnie – bez presji\, za to blisko ludzi i Boga. \n\n\n\nTo turnusy\, które łączą aktywny wypoczynek z wartościowym programem: modlitwą\, rozmową\, integracją i codziennymi atrakcjami w bezpiecznym\, życzliwym miejscu.
URL:https://www.haus-concordia.com/web/kalendarz/wakacje-z-jezusem-2026/
LOCATION:Haus Concordia\, Zur Concordia 1\, Herdorf\, 57562\, Niemcy
ATTACH;FMTTYPE=image/png:https://www.haus-concordia.com/web/wp-content/uploads/2026/01/WAKACJE-Z-JEZUSEM_2026-scaled.png
END:VEVENT
END:VCALENDAR