BEGIN:VCALENDAR
VERSION:2.0
PRODID:-//Haus Concordia - ECPv6.15.20//NONSGML v1.0//EN
CALSCALE:GREGORIAN
METHOD:PUBLISH
X-ORIGINAL-URL:https://www.haus-concordia.com/web
X-WR-CALDESC:Wydarzenia dla Haus Concordia
REFRESH-INTERVAL;VALUE=DURATION:PT1H
X-Robots-Tag:noindex
X-PUBLISHED-TTL:PT1H
BEGIN:VTIMEZONE
TZID:Europe/Warsaw
BEGIN:DAYLIGHT
TZOFFSETFROM:+0100
TZOFFSETTO:+0200
TZNAME:CEST
DTSTART:20250330T010000
END:DAYLIGHT
BEGIN:STANDARD
TZOFFSETFROM:+0200
TZOFFSETTO:+0100
TZNAME:CET
DTSTART:20251026T010000
END:STANDARD
BEGIN:DAYLIGHT
TZOFFSETFROM:+0100
TZOFFSETTO:+0200
TZNAME:CEST
DTSTART:20260329T010000
END:DAYLIGHT
BEGIN:STANDARD
TZOFFSETFROM:+0200
TZOFFSETTO:+0100
TZNAME:CET
DTSTART:20261025T010000
END:STANDARD
BEGIN:DAYLIGHT
TZOFFSETFROM:+0100
TZOFFSETTO:+0200
TZNAME:CEST
DTSTART:20270328T010000
END:DAYLIGHT
BEGIN:STANDARD
TZOFFSETFROM:+0200
TZOFFSETTO:+0100
TZNAME:CET
DTSTART:20271031T010000
END:STANDARD
END:VTIMEZONE
BEGIN:VEVENT
DTSTART;TZID=Europe/Warsaw:20260619T180000
DTEND;TZID=Europe/Warsaw:20260621T190000
DTSTAMP:20260422T162737
CREATED:20251006T130906Z
LAST-MODIFIED:20251006T130907Z
UID:5586-1781892000-1782068400@www.haus-concordia.com
SUMMARY:Szkoła Chrześcijańskiego Wzrostu VI
DESCRIPTION:Kościół jako wspólnotaOstatni weekend to święto wspólnoty. Podsumowujemy rok drogi i uczymy się\, jak żyć Ewangelią w codzienności. Odkrywamy Kościół nie jako instytucję\, lecz jako rodzinę – ludzi\, których łączy wiara\, nadzieja i miłość. To piękny finał wspólnej drogi w Concordii.
URL:https://www.haus-concordia.com/web/kalendarz/szkola-chrzescijanskiego-wzrostu-vi/
LOCATION:Haus Concordia\, Zur Concordia 1\, Herdorf\, 57562\, Niemcy
ATTACH;FMTTYPE=image/jpeg:https://www.haus-concordia.com/web/wp-content/uploads/2025/05/PLAKAT_szkola-chrzescijanskiego-wzrostu-scaled.jpg
END:VEVENT
END:VCALENDAR