BEGIN:VCALENDAR
VERSION:2.0
PRODID:-//Haus Concordia - ECPv6.15.20//NONSGML v1.0//EN
CALSCALE:GREGORIAN
METHOD:PUBLISH
X-ORIGINAL-URL:https://www.haus-concordia.com/web
X-WR-CALDESC:Wydarzenia dla Haus Concordia
REFRESH-INTERVAL;VALUE=DURATION:PT1H
X-Robots-Tag:noindex
X-PUBLISHED-TTL:PT1H
BEGIN:VTIMEZONE
TZID:Europe/Berlin
BEGIN:DAYLIGHT
TZOFFSETFROM:+0100
TZOFFSETTO:+0200
TZNAME:CEST
DTSTART:20250330T010000
END:DAYLIGHT
BEGIN:STANDARD
TZOFFSETFROM:+0200
TZOFFSETTO:+0100
TZNAME:CET
DTSTART:20251026T010000
END:STANDARD
BEGIN:DAYLIGHT
TZOFFSETFROM:+0100
TZOFFSETTO:+0200
TZNAME:CEST
DTSTART:20260329T010000
END:DAYLIGHT
BEGIN:STANDARD
TZOFFSETFROM:+0200
TZOFFSETTO:+0100
TZNAME:CET
DTSTART:20261025T010000
END:STANDARD
BEGIN:DAYLIGHT
TZOFFSETFROM:+0100
TZOFFSETTO:+0200
TZNAME:CEST
DTSTART:20270328T010000
END:DAYLIGHT
BEGIN:STANDARD
TZOFFSETFROM:+0200
TZOFFSETTO:+0100
TZNAME:CET
DTSTART:20271031T010000
END:STANDARD
END:VTIMEZONE
BEGIN:VEVENT
DTSTART;TZID=Europe/Berlin:20260530T110000
DTEND;TZID=Europe/Berlin:20260530T170000
DTSTAMP:20260422T145809
CREATED:20260303T175011Z
LAST-MODIFIED:20260303T175853Z
UID:5771-1780138800-1780160400@www.haus-concordia.com
SUMMARY:Dzień Dziecka w Haus Concordia
DESCRIPTION:Dzień Dziecka w Haus Concordia – 30 maja 2026 (wstęp bezpłatny) \n\n\n\nZapraszamy dzieci\, rodziców i całe rodziny na radosny Dzień Dziecka w Haus Concordia! To będzie dzień pełen uśmiechu\, ruchu\, wspólnej zabawy i dobrej atmosfery – takiej\, którą pamięta się długo. \n\n\n\nCzekają na Państwa: \n\n\n\n\nrówieśnicy i integracja – czas na poznanie się i wspólne spędzenie dnia\n\n\n\nzabawa – gry i atrakcje dla każdego\n\n\n\nsport – aktywności na świeżym powietrzu\n\n\n\nJezus – rozpoczniemy dzień wspólną modlitwą podczas Mszy Świętej\n\n\n\n\n\n\n\n\nProgram\n\n\n\n11:00 – Msza ŚwiętaPo Mszy zapraszamy na część piknikową oraz atrakcje dla dzieci i dorosłych. \n\n\n\n\n\n\n\nJedzenie i strefa gastronomiczna\n\n\n\nNa miejscu dostępne będzie pyszne jedzenie\, m.in.:dania z grilla\, bigos\, frytki\, steki\, a także napoje\, kawa i ciasto.
URL:https://www.haus-concordia.com/web/kalendarz/dzien-dziecka-w-haus-concordia/
LOCATION:Haus Concordia\, Zur Concordia 1\, Herdorf\, 57562\, Niemcy
ATTACH;FMTTYPE=image/png:https://www.haus-concordia.com/web/wp-content/uploads/2026/03/dzien-dziecka_2026-scaled.png
ORGANIZER;CN="Haus Concordia":MAILTO:concordia@haus-concordia.com
END:VEVENT
BEGIN:VEVENT
DTSTART;TZID=Europe/Berlin:20260530T110000
DTEND;TZID=Europe/Berlin:20260530T170000
DTSTAMP:20260422T145809
CREATED:20260410T174111Z
LAST-MODIFIED:20260410T174112Z
UID:5856-1780138800-1780160400@www.haus-concordia.com
SUMMARY:Turniej PIŁKI NOŻNEJ PMK
DESCRIPTION:
URL:https://www.haus-concordia.com/web/kalendarz/turniej-pilki-noznej-pmk/
LOCATION:Haus Concordia\, Zur Concordia 1\, Herdorf\, 57562\, Niemcy
ATTACH;FMTTYPE=image/jpeg:https://www.haus-concordia.com/web/wp-content/uploads/2026/04/PLAKAT-PMK-TURNIEJ-2026-scaled.jpg
END:VEVENT
END:VCALENDAR