BEGIN:VCALENDAR
VERSION:2.0
PRODID:-//Haus Concordia - ECPv6.15.20//NONSGML v1.0//EN
CALSCALE:GREGORIAN
METHOD:PUBLISH
X-ORIGINAL-URL:https://www.haus-concordia.com/web
X-WR-CALDESC:Wydarzenia dla Haus Concordia
REFRESH-INTERVAL;VALUE=DURATION:PT1H
X-Robots-Tag:noindex
X-PUBLISHED-TTL:PT1H
BEGIN:VTIMEZONE
TZID:Europe/Berlin
BEGIN:DAYLIGHT
TZOFFSETFROM:+0100
TZOFFSETTO:+0200
TZNAME:CEST
DTSTART:20250330T010000
END:DAYLIGHT
BEGIN:STANDARD
TZOFFSETFROM:+0200
TZOFFSETTO:+0100
TZNAME:CET
DTSTART:20251026T010000
END:STANDARD
BEGIN:DAYLIGHT
TZOFFSETFROM:+0100
TZOFFSETTO:+0200
TZNAME:CEST
DTSTART:20260329T010000
END:DAYLIGHT
BEGIN:STANDARD
TZOFFSETFROM:+0200
TZOFFSETTO:+0100
TZNAME:CET
DTSTART:20261025T010000
END:STANDARD
BEGIN:DAYLIGHT
TZOFFSETFROM:+0100
TZOFFSETTO:+0200
TZNAME:CEST
DTSTART:20270328T010000
END:DAYLIGHT
BEGIN:STANDARD
TZOFFSETFROM:+0200
TZOFFSETTO:+0100
TZNAME:CET
DTSTART:20271031T010000
END:STANDARD
END:VTIMEZONE
BEGIN:VEVENT
DTSTART;TZID=Europe/Berlin:20260514T120000
DTEND;TZID=Europe/Berlin:20260514T170000
DTSTAMP:20260422T145832
CREATED:20260303T175343Z
LAST-MODIFIED:20260303T175436Z
UID:5775-1778760000-1778778000@www.haus-concordia.com
SUMMARY:Christi Himmelfahrts-Fest
DESCRIPTION:Serdecznie zapraszamy na Christi Himmelfahrts-Fest (Wniebowstąpienie Pańskie) w Haus Concordia. To wyjątkowy dzień modlitwy i wspólnoty\, który spędzimy razem podczas nabożeństwa na świeżym powietrzu\, a później – w radosnej\, rodzinnej atmosferze przy muzyce i dobrym jedzeniu. \n\n\n\n\n\n\n\nProgram wydarzenia\n\n\n\n🕛 12:00 – Msza Święta / nabożeństwo Open AirPo nabożeństwie zapraszamy na spätschoppen (spotkanie przy muzyce i poczęstunku) z udziałem Musikverein Dermbach.
URL:https://www.haus-concordia.com/web/kalendarz/christi-himmelfahrts-fest/
LOCATION:Haus Concordia\, Zur Concordia 1\, Herdorf\, 57562\, Niemcy
ATTACH;FMTTYPE=image/png:https://www.haus-concordia.com/web/wp-content/uploads/2026/03/christi_plakat_2-scaled.png
ORGANIZER;CN="Haus Concordia":MAILTO:concordia@haus-concordia.com
END:VEVENT
END:VCALENDAR