BEGIN:VCALENDAR
VERSION:2.0
PRODID:-//Haus Concordia - ECPv6.15.20//NONSGML v1.0//EN
CALSCALE:GREGORIAN
METHOD:PUBLISH
X-WR-CALNAME:Haus Concordia
X-ORIGINAL-URL:https://www.haus-concordia.com/web
X-WR-CALDESC:Wydarzenia dla Haus Concordia
REFRESH-INTERVAL;VALUE=DURATION:PT1H
X-Robots-Tag:noindex
X-PUBLISHED-TTL:PT1H
BEGIN:VTIMEZONE
TZID:Europe/Berlin
BEGIN:DAYLIGHT
TZOFFSETFROM:+0100
TZOFFSETTO:+0200
TZNAME:CEST
DTSTART:20250330T010000
END:DAYLIGHT
BEGIN:STANDARD
TZOFFSETFROM:+0200
TZOFFSETTO:+0100
TZNAME:CET
DTSTART:20251026T010000
END:STANDARD
BEGIN:DAYLIGHT
TZOFFSETFROM:+0100
TZOFFSETTO:+0200
TZNAME:CEST
DTSTART:20260329T010000
END:DAYLIGHT
BEGIN:STANDARD
TZOFFSETFROM:+0200
TZOFFSETTO:+0100
TZNAME:CET
DTSTART:20261025T010000
END:STANDARD
BEGIN:DAYLIGHT
TZOFFSETFROM:+0100
TZOFFSETTO:+0200
TZNAME:CEST
DTSTART:20270328T010000
END:DAYLIGHT
BEGIN:STANDARD
TZOFFSETFROM:+0200
TZOFFSETTO:+0100
TZNAME:CET
DTSTART:20271031T010000
END:STANDARD
END:VTIMEZONE
BEGIN:VEVENT
DTSTART;TZID=Europe/Berlin:20260508T140000
DTEND;TZID=Europe/Berlin:20260510T170000
DTSTAMP:20260422T145513
CREATED:20260413T182508Z
LAST-MODIFIED:20260413T182509Z
UID:5862-1778248800-1778432400@www.haus-concordia.com
SUMMARY:Weekend z Jezusem - rekolekcje dla dzieci i młodzieży
DESCRIPTION:Wspaniały weekend dla dzieci i młodzieży! Bogaty program obejmujący katechezę i mszę świętą\, mnóstwo wspólnych chwil\, zabaw i radości!
URL:https://www.haus-concordia.com/web/kalendarz/weekend-z-jezusem-rekolekcje-dla-dzieci-i-mlodziezy/
LOCATION:Haus Concordia\, Zur Concordia 1\, Herdorf\, 57562\, Niemcy
ATTACH;FMTTYPE=image/jpeg:https://www.haus-concordia.com/web/wp-content/uploads/2026/04/WhatsApp-Image-2026-04-13-at-19.00.27.jpeg
END:VEVENT
END:VCALENDAR