BEGIN:VCALENDAR
VERSION:2.0
PRODID:-//Haus Concordia - ECPv6.15.20//NONSGML v1.0//EN
CALSCALE:GREGORIAN
METHOD:PUBLISH
X-WR-CALNAME:Haus Concordia
X-ORIGINAL-URL:https://www.haus-concordia.com/web
X-WR-CALDESC:Wydarzenia dla Haus Concordia
REFRESH-INTERVAL;VALUE=DURATION:PT1H
X-Robots-Tag:noindex
X-PUBLISHED-TTL:PT1H
BEGIN:VTIMEZONE
TZID:Europe/Warsaw
BEGIN:DAYLIGHT
TZOFFSETFROM:+0100
TZOFFSETTO:+0200
TZNAME:CEST
DTSTART:20250330T010000
END:DAYLIGHT
BEGIN:STANDARD
TZOFFSETFROM:+0200
TZOFFSETTO:+0100
TZNAME:CET
DTSTART:20251026T010000
END:STANDARD
BEGIN:DAYLIGHT
TZOFFSETFROM:+0100
TZOFFSETTO:+0200
TZNAME:CEST
DTSTART:20260329T010000
END:DAYLIGHT
BEGIN:STANDARD
TZOFFSETFROM:+0200
TZOFFSETTO:+0100
TZNAME:CET
DTSTART:20261025T010000
END:STANDARD
BEGIN:DAYLIGHT
TZOFFSETFROM:+0100
TZOFFSETTO:+0200
TZNAME:CEST
DTSTART:20270328T010000
END:DAYLIGHT
BEGIN:STANDARD
TZOFFSETFROM:+0200
TZOFFSETTO:+0100
TZNAME:CET
DTSTART:20271031T010000
END:STANDARD
END:VTIMEZONE
BEGIN:VEVENT
DTSTART;TZID=Europe/Warsaw:20260424T193000
DTEND;TZID=Europe/Warsaw:20260426T134500
DTSTAMP:20260422T134853
CREATED:20251229T090132Z
LAST-MODIFIED:20251229T090339Z
UID:5699-1777059000-1777211100@www.haus-concordia.com
SUMMARY:118 Spotkanie Formacyjne Młodych "Emaus"
DESCRIPTION:Spotkania Formacyjne Młodych „Emaus” adresowane są do młodzieży\, która pragnie pogłębiać i umacniać swoją wiarę oraz tworzyć wspólnotę młodych chrześcijan. Główny cel jej działalności to formacja religijna młodego człowieka\, kształtowanie zdrowej i autentycznej pobożności\, umożliwienie przeżycia głębokiego doświadczenia religijnego\, a przede wszystkim pomoc w dojściu do dojrzałej wiary\, która polega na osobistym wyborze Chrystusa jako Pana i Mistrza oraz powierzeniu Jemu całego swojego życia.  \n\n\n\nSpotkania od momentu powstania w styczniu 2008 roku prowadzi ks. Bogdan Renusz SChr\, pomocą służą duszpasterze Polskich Misji Katolickich\, przede wszystkim Księża Chrystusowcy a także zaproszeni goście. Odbywają się one 7 razy w roku. Na program SFM „Emaus” składają się: Eucharystia\, Adoracja Najświętszego Sakramentu\, różne formy modlitwy\, rozważanie Słowa Bożego\, nabożeństwo pokutne ze spowiedzią indywidualną\, konferencje pogłębiające wiarę\, indywidualne rozmowy duszpasterskie\, spotkania w kręgu przyjaciół.  \n\n\n\nSpotkania rozpoczynają się zawsze w piątek o godz. 19:30 i kończą w niedzielę o godz. 13:45. \n\n\n\nBiblijnym symbolem duchowości Spotkań Formacyjnych Młodych\, jak wskazuje sama nazwa\,  jest droga do  „Emaus” opisana w Ewangelii według św. Łukasza (Łk 24\,13-35)
URL:https://www.haus-concordia.com/web/kalendarz/118-spotkanie-formacyjne-mlodych-emaus/
LOCATION:Haus Concordia\, Zur Concordia 1\, Herdorf\, 57562\, Niemcy
CATEGORIES:SFM EMAUS
ATTACH;FMTTYPE=image/jpeg:https://www.haus-concordia.com/web/wp-content/uploads/2025/12/SFM01263-16.jpg
ORGANIZER;CN="SFM-Emaus":MAILTO:brenusz@gmx.de
END:VEVENT
END:VCALENDAR