BEGIN:VCALENDAR
VERSION:2.0
PRODID:-//Haus Concordia - ECPv6.15.20//NONSGML v1.0//EN
CALSCALE:GREGORIAN
METHOD:PUBLISH
X-ORIGINAL-URL:https://www.haus-concordia.com/web
X-WR-CALDESC:Wydarzenia dla Haus Concordia
REFRESH-INTERVAL;VALUE=DURATION:PT1H
X-Robots-Tag:noindex
X-PUBLISHED-TTL:PT1H
BEGIN:VTIMEZONE
TZID:Europe/Warsaw
BEGIN:DAYLIGHT
TZOFFSETFROM:+0100
TZOFFSETTO:+0200
TZNAME:CEST
DTSTART:20250330T010000
END:DAYLIGHT
BEGIN:STANDARD
TZOFFSETFROM:+0200
TZOFFSETTO:+0100
TZNAME:CET
DTSTART:20251026T010000
END:STANDARD
BEGIN:DAYLIGHT
TZOFFSETFROM:+0100
TZOFFSETTO:+0200
TZNAME:CEST
DTSTART:20260329T010000
END:DAYLIGHT
BEGIN:STANDARD
TZOFFSETFROM:+0200
TZOFFSETTO:+0100
TZNAME:CET
DTSTART:20261025T010000
END:STANDARD
BEGIN:DAYLIGHT
TZOFFSETFROM:+0100
TZOFFSETTO:+0200
TZNAME:CEST
DTSTART:20270328T010000
END:DAYLIGHT
BEGIN:STANDARD
TZOFFSETFROM:+0200
TZOFFSETTO:+0100
TZNAME:CET
DTSTART:20271031T010000
END:STANDARD
END:VTIMEZONE
BEGIN:VEVENT
DTSTART;TZID=Europe/Warsaw:20260410T180000
DTEND;TZID=Europe/Warsaw:20260412T190000
DTSTAMP:20260422T134026
CREATED:20251006T133421Z
LAST-MODIFIED:20251229T091641Z
UID:5609-1775844000-1776020400@www.haus-concordia.com
SUMMARY:Grupa Modlitewna "Orły"
DESCRIPTION:Grupa modlitewna ORŁY zaprasza na spotkania w 2025 roku! To wyjątkowy czas wspólnej modlitwy\, duchowego wzrostu oraz budowania relacji z Bogiem i innymi uczestnikami. Każde spotkanie to okazja\, aby doświadczyć wspólnoty i pogłębić swoją wiarę. \n\n\n\nSpotkania odbywają się w atmosferze modlitwy\, refleksji i radości. Zapraszamy zarówno stałych uczestników\, jak i tych\, którzy chcą dołączyć po raz pierwszy. \n\n\n\nWięcej szczegółów można uzyskać kontaktując się z organizatorami.
URL:https://www.haus-concordia.com/web/kalendarz/grupa-modlitewna-orly-2/
LOCATION:Haus Concordia\, Zur Concordia 1\, Herdorf\, 57562\, Niemcy
CATEGORIES:Grupa Modlitewna Orły
ATTACH;FMTTYPE=image/avif:https://www.haus-concordia.com/web/wp-content/uploads/2025/10/2026.avif
ORGANIZER;CN="Grupa Modlitewna Or%C5%82y":MAILTO:grupamodlitewnaorly@gmail.com
END:VEVENT
END:VCALENDAR