BEGIN:VCALENDAR
VERSION:2.0
PRODID:-//Haus Concordia - ECPv6.15.20//NONSGML v1.0//EN
CALSCALE:GREGORIAN
METHOD:PUBLISH
X-WR-CALNAME:Haus Concordia
X-ORIGINAL-URL:https://www.haus-concordia.com/web
X-WR-CALDESC:Wydarzenia dla Haus Concordia
REFRESH-INTERVAL;VALUE=DURATION:PT1H
X-Robots-Tag:noindex
X-PUBLISHED-TTL:PT1H
BEGIN:VTIMEZONE
TZID:Europe/Warsaw
BEGIN:DAYLIGHT
TZOFFSETFROM:+0100
TZOFFSETTO:+0200
TZNAME:CEST
DTSTART:20250330T010000
END:DAYLIGHT
BEGIN:STANDARD
TZOFFSETFROM:+0200
TZOFFSETTO:+0100
TZNAME:CET
DTSTART:20251026T010000
END:STANDARD
BEGIN:DAYLIGHT
TZOFFSETFROM:+0100
TZOFFSETTO:+0200
TZNAME:CEST
DTSTART:20260329T010000
END:DAYLIGHT
BEGIN:STANDARD
TZOFFSETFROM:+0200
TZOFFSETTO:+0100
TZNAME:CET
DTSTART:20261025T010000
END:STANDARD
BEGIN:DAYLIGHT
TZOFFSETFROM:+0100
TZOFFSETTO:+0200
TZNAME:CEST
DTSTART:20270328T010000
END:DAYLIGHT
BEGIN:STANDARD
TZOFFSETFROM:+0200
TZOFFSETTO:+0100
TZNAME:CET
DTSTART:20271031T010000
END:STANDARD
END:VTIMEZONE
BEGIN:VEVENT
DTSTART;TZID=Europe/Warsaw:20260211T180000
DTEND;TZID=Europe/Warsaw:20260211T210000
DTSTAMP:20260422T162523
CREATED:20260123T145930Z
LAST-MODIFIED:20260123T145931Z
UID:5732-1770832800-1770843600@www.haus-concordia.com
SUMMARY:Spotkanie Rocznicowe Grupy AA Concordia
DESCRIPTION:Z serca zapraszamy na Spotkanie Rocznicowe Grupy AA Concordia. To czas wspólnoty\, rozmowy\, nadziei i umocnienia w drodze do trzeźwości — w spokojnej\, serdecznej atmosferze. \n\n\n\nProgram spotkania\n\n\n\n18:00 – Msza Święta (dla chętnych)Msza w intencji AA. \n\n\n\n19:00 – Spotkanie rocznicowe \n\n\n\nGoście spotkania\n\n\n\nPodczas spotkania swoimi doświadczeniami w drodze do trzeźwości podzieli się z nami Magda z grupy Concordia.Usłyszymy też spojrzenie na pomoc osobom zmagającym się z uzależnieniem oraz rolę Kościoła we wspieraniu drogi do trzeźwości. \n\n\n\nPo spotkaniu\n\n\n\nBędzie też coś „domowego”: kawa\, ciasto i wspólne rozmowy. \n\n\n\nSerdecznie zapraszamy przyjaciół AA oraz osoby zainteresowane.Przyjdź tak\, jak stoisz — będzie miejsce i czas\, żeby po prostu pobyć razem.
URL:https://www.haus-concordia.com/web/kalendarz/spotkanie-rocznicowe-grupy-aa-concordia/
LOCATION:Haus Concordia\, Zur Concordia 1\, Herdorf\, 57562\, Niemcy
ATTACH;FMTTYPE=image/jpeg:https://www.haus-concordia.com/web/wp-content/uploads/2026/01/PHOTO-2026-01-23-08-26-34.jpg
END:VEVENT
END:VCALENDAR