BEGIN:VCALENDAR
VERSION:2.0
PRODID:-//Haus Concordia - ECPv6.15.20//NONSGML v1.0//EN
CALSCALE:GREGORIAN
METHOD:PUBLISH
X-ORIGINAL-URL:https://www.haus-concordia.com/web
X-WR-CALDESC:Wydarzenia dla Haus Concordia
REFRESH-INTERVAL;VALUE=DURATION:PT1H
X-Robots-Tag:noindex
X-PUBLISHED-TTL:PT1H
BEGIN:VTIMEZONE
TZID:Europe/Warsaw
BEGIN:DAYLIGHT
TZOFFSETFROM:+0100
TZOFFSETTO:+0200
TZNAME:CEST
DTSTART:20240331T010000
END:DAYLIGHT
BEGIN:STANDARD
TZOFFSETFROM:+0200
TZOFFSETTO:+0100
TZNAME:CET
DTSTART:20241027T010000
END:STANDARD
BEGIN:DAYLIGHT
TZOFFSETFROM:+0100
TZOFFSETTO:+0200
TZNAME:CEST
DTSTART:20250330T010000
END:DAYLIGHT
BEGIN:STANDARD
TZOFFSETFROM:+0200
TZOFFSETTO:+0100
TZNAME:CET
DTSTART:20251026T010000
END:STANDARD
BEGIN:DAYLIGHT
TZOFFSETFROM:+0100
TZOFFSETTO:+0200
TZNAME:CEST
DTSTART:20260329T010000
END:DAYLIGHT
BEGIN:STANDARD
TZOFFSETFROM:+0200
TZOFFSETTO:+0100
TZNAME:CET
DTSTART:20261025T010000
END:STANDARD
BEGIN:DAYLIGHT
TZOFFSETFROM:+0100
TZOFFSETTO:+0200
TZNAME:CEST
DTSTART:20270328T010000
END:DAYLIGHT
BEGIN:STANDARD
TZOFFSETFROM:+0200
TZOFFSETTO:+0100
TZNAME:CET
DTSTART:20271031T010000
END:STANDARD
END:VTIMEZONE
BEGIN:VEVENT
DTSTART;TZID=Europe/Warsaw:20251228T180000
DTEND;TZID=Europe/Warsaw:20260104T140000
DTSTAMP:20260422T175704
CREATED:20251031T080502Z
LAST-MODIFIED:20251031T080504Z
UID:5619-1766944800-1767535200@www.haus-concordia.com
SUMMARY:Nowy Rok z Jezusem
DESCRIPTION:Zapraszamy na niezapomniane rekolekcje zimowe\, podczas których dzieci i młodzież będą mogły rozpocząć Nowy Rok w wyjątkowy sposób – z radością\, wspólnotą i w obecności Jezusa!To czas pełen modlitwy\, zabawy i inspirujących spotkań\, które pomagają młodym uczestnikom odkrywać wiarę w praktyczny i radosny sposób. \n\n\n\nCzekają:❄️ zimowe atrakcje i wspólne zabawy na świeżym powietrzu🏊‍♂️ wyjścia na basen i aktywny wypoczynek🎶 modlitwa\, śpiew i spotkania formacyjne🎇 wspólne świętowanie Nowego Roku🤝 integracja i budowanie przyjaźni \n\n\n\n👧👦 Dla kogo:\n\n\n\nDzieci i młodzież w wieku 8–16 lat \n\n\n\n💰 Koszt:\n\n\n\n350 € \n\n\n\n📍 Miejsce:\n\n\n\nHaus ConcordiaZur Concordia 1\, D-57562 Herdorf – Dermbach \n\n\n\n📞 Zapisy:\n\n\n\nKontakt do organizatora – Stowarzyszenie 3D📩 Marta Stoltmann📱 Tel.: 0151 703 28714
URL:https://www.haus-concordia.com/web/kalendarz/nowy-rok-z-jezusem/
LOCATION:Haus Concordia\, Zur Concordia 1\, Herdorf\, 57562\, Niemcy
ATTACH;FMTTYPE=image/png:https://www.haus-concordia.com/web/wp-content/uploads/2025/10/Obszar-kompozycji-2-2.png
END:VEVENT
END:VCALENDAR