BEGIN:VCALENDAR
VERSION:2.0
PRODID:-//Haus Concordia - ECPv6.15.20//NONSGML v1.0//EN
CALSCALE:GREGORIAN
METHOD:PUBLISH
X-ORIGINAL-URL:https://www.haus-concordia.com/web
X-WR-CALDESC:Wydarzenia dla Haus Concordia
REFRESH-INTERVAL;VALUE=DURATION:PT1H
X-Robots-Tag:noindex
X-PUBLISHED-TTL:PT1H
BEGIN:VTIMEZONE
TZID:Europe/Warsaw
BEGIN:DAYLIGHT
TZOFFSETFROM:+0100
TZOFFSETTO:+0200
TZNAME:CEST
DTSTART:20240331T010000
END:DAYLIGHT
BEGIN:STANDARD
TZOFFSETFROM:+0200
TZOFFSETTO:+0100
TZNAME:CET
DTSTART:20241027T010000
END:STANDARD
BEGIN:DAYLIGHT
TZOFFSETFROM:+0100
TZOFFSETTO:+0200
TZNAME:CEST
DTSTART:20250330T010000
END:DAYLIGHT
BEGIN:STANDARD
TZOFFSETFROM:+0200
TZOFFSETTO:+0100
TZNAME:CET
DTSTART:20251026T010000
END:STANDARD
BEGIN:DAYLIGHT
TZOFFSETFROM:+0100
TZOFFSETTO:+0200
TZNAME:CEST
DTSTART:20260329T010000
END:DAYLIGHT
BEGIN:STANDARD
TZOFFSETFROM:+0200
TZOFFSETTO:+0100
TZNAME:CET
DTSTART:20261025T010000
END:STANDARD
END:VTIMEZONE
BEGIN:VEVENT
DTSTART;TZID=Europe/Warsaw:20251205T170000
DTEND;TZID=Europe/Warsaw:20251207T180000
DTSTAMP:20260422T190400
CREATED:20241212T130023Z
LAST-MODIFIED:20241212T130023Z
UID:4968-1764954000-1765130400@www.haus-concordia.com
SUMMARY:115 Spotkanie Formacyjne Młodych „Emaus”
DESCRIPTION:Spotkania Formacyjne Młodych „Emaus” to przedłużenie Polonijnego Spotkania Młodych\, które co roku odbywa się w Haus Concordia.  Adresowane są one do młodzieży\, która pragnie pogłębiać i umacniać swoją wiarę oraz tworzyć wspólnotę młodych chrześcijan. Prowadzącymi spotkania jest odpowiedzialny za Polonijne Spotkanie Młodych i za SFM „Emaus” ks. Bogdan Renusz SChr\, księża z Polskich Misji Katolickich\, a także zaproszeni goście. Na program SFM „Emaus” składają się: Eucharystia\, Adoracja Najświętszego Sakramentu i inne formy modlitwy\, spotkanie ze Słowem Bożym\, nabożeństwo pokutne ze spowiedzią indywidualną\, konferencje pogłębiające wiarę\, spotkania formacyjne i indywidualne rozmowy duszpasterskie\, śpiew\, spotkania w kręgu przyjaciół. \n\n\n\nZapisy:ks. Bogdan Renusz SChrbrenusz@gmx.de
URL:https://www.haus-concordia.com/web/kalendarz/115-spotkanie-formacyjne-mlodych-emaus/
LOCATION:Haus Concordia\, Zur Concordia 1\, Herdorf\, 57562\, Niemcy
CATEGORIES:SFM EMAUS
ATTACH;FMTTYPE=image/jpeg:https://www.haus-concordia.com/web/wp-content/uploads/2024/12/SFM01263-14-1-1.jpg
ORGANIZER;CN="Spotkania Formacyjne M%C5%82odych %E2%80%9EEmaus%E2%80%9D":MAILTO:brenusz@gmx.de
END:VEVENT
END:VCALENDAR