BEGIN:VCALENDAR
VERSION:2.0
PRODID:-//Haus Concordia - ECPv6.15.20//NONSGML v1.0//EN
CALSCALE:GREGORIAN
METHOD:PUBLISH
X-ORIGINAL-URL:https://www.haus-concordia.com/web
X-WR-CALDESC:Wydarzenia dla Haus Concordia
REFRESH-INTERVAL;VALUE=DURATION:PT1H
X-Robots-Tag:noindex
X-PUBLISHED-TTL:PT1H
BEGIN:VTIMEZONE
TZID:Europe/Warsaw
BEGIN:DAYLIGHT
TZOFFSETFROM:+0100
TZOFFSETTO:+0200
TZNAME:CEST
DTSTART:20240331T010000
END:DAYLIGHT
BEGIN:STANDARD
TZOFFSETFROM:+0200
TZOFFSETTO:+0100
TZNAME:CET
DTSTART:20241027T010000
END:STANDARD
BEGIN:DAYLIGHT
TZOFFSETFROM:+0100
TZOFFSETTO:+0200
TZNAME:CEST
DTSTART:20250330T010000
END:DAYLIGHT
BEGIN:STANDARD
TZOFFSETFROM:+0200
TZOFFSETTO:+0100
TZNAME:CET
DTSTART:20251026T010000
END:STANDARD
BEGIN:DAYLIGHT
TZOFFSETFROM:+0100
TZOFFSETTO:+0200
TZNAME:CEST
DTSTART:20260329T010000
END:DAYLIGHT
BEGIN:STANDARD
TZOFFSETFROM:+0200
TZOFFSETTO:+0100
TZNAME:CET
DTSTART:20261025T010000
END:STANDARD
END:VTIMEZONE
BEGIN:VEVENT
DTSTART;TZID=Europe/Warsaw:20251114T180000
DTEND;TZID=Europe/Warsaw:20251116T190000
DTSTAMP:20260424T140543
CREATED:20251020T135231Z
LAST-MODIFIED:20251103T085146Z
UID:5612-1763143200-1763319600@www.haus-concordia.com
SUMMARY:Szkoła Chrześcijańskiego Wzrostu II
DESCRIPTION:Marzysz o głębszej relacji z Bogiem\, lepszym poznaniu siebie i dojrzałej duchowości?Zapraszamy Cię do udziału w Szkole Chrześcijańskiego Wzrostu – unikalnym programie formacyjnym obejmującym sześć intensywnych weekendów\, które pomogą Ci rozwijać Twoją duchowość\, intelekt oraz psychikę!To propozycja dla osób dorosłych\, które pragną świadomie pogłębiać swoją wiarę\, poszukują zrozumienia siebie i chcą wzrastać we wspólnocie. \n\n\n\nPodczas każdego zjazdu oferujemy:– interaktywne wykłady z teologii i duchowości\,– warsztaty psychologiczne i rozwojowe\,– wspólną modlitwę\,– czas na osobistą refleksję i dzielenie się wiarą. \n\n\n\nPoruszymy tematy takie jak:– wiarygodność chrześcijaństwa\,– sumienie i odpowiedzialność moralna\,– emocjonalna dojrzałość i rozeznawanie duchowe\,– komunikacja i konflikty\,– liturgia\, sakramenty\, Kościół jako wspólnota\,– relacja między świeckimi a duchownymi. \n\n\n\nTerminy spotkań: od września 2025 do czerwca 2026Miejsce: Haus Concordia (Niemcy)Koszt: 250 euro za weekend (łącznie 1500 euro)Uczestnictwo: tylko dla osób pełnoletnich \n\n\n\nProwadzący:dr Magdalena Jóźwik – teolog\, trener i kierownik duchowy\,dr Magdalena Kudełka-Lwowska – psycholog i psychoterapeuta\,Urszula Kotas – pedagog i animator duchowy\,diakon dr Andrzej Lwowski – teolog i wykładowca akademicki \n\n\n\nNie odkładaj rozwoju wiary na później – zapisz się już dziś i wyrusz w drogę\, która naprawdę przemienia!ZAPISY:Link do zapisów: https://forms.gle/vSjXXXmxx2omNC9B7
URL:https://www.haus-concordia.com/web/kalendarz/szkola-chrzescijanskiego-wzrostu-ii/
LOCATION:Haus Concordia\, Zur Concordia 1\, Herdorf\, 57562\, Niemcy
CATEGORIES:Haus Concordia
ATTACH;FMTTYPE=image/jpeg:https://www.haus-concordia.com/web/wp-content/uploads/2025/05/PLAKAT_szkola-chrzescijanskiego-wzrostu-scaled.jpg
END:VEVENT
END:VCALENDAR